1.0000000000
0.0000000000
0.0000000000
-1.0000000000
407627.5000000000
4740911.5000000000
