1.0000000000
0.0000000000
0.0000000000
-1.0000000000
335852.5000000000
4735296.5000000000
