1.0000000000
0.0000000000
0.0000000000
-1.0000000000
335688.5000000000
4728356.5000000000
