1.0000000000
0.0000000000
0.0000000000
-1.0000000000
346093.5000000000
4735061.5000000000
