1.0000000000
0.0000000000
0.0000000000
-1.0000000000
345939.5000000000
4728121.5000000000
