1.0000000000
0.0000000000
0.0000000000
-1.0000000000
361454.5000000000
4734738.5000000000
