1.0000000000
0.0000000000
0.0000000000
-1.0000000000
356333.5000000000
4734842.5000000000
