1.0000000000
0.0000000000
0.0000000000
-1.0000000000
361315.5000000000
4727797.5000000000
