1.0000000000
0.0000000000
0.0000000000
-1.0000000000
356190.5000000000
4727901.5000000000
