1.0000000000
0.0000000000
0.0000000000
-1.0000000000
366440.5000000000
4727697.5000000000
