1.0000000000
0.0000000000
0.0000000000
-1.0000000000
387054.5000000000
4734273.5000000000
