1.0000000000
0.0000000000
0.0000000000
-1.0000000000
402415.5000000000
4734041.5000000000
