1.0000000000
0.0000000000
0.0000000000
-1.0000000000
397295.5000000000
4734114.5000000000
