1.0000000000
0.0000000000
0.0000000000
-1.0000000000
412568.5000000000
4726964.5000000000
