1.0000000000
0.0000000000
0.0000000000
-1.0000000000
340655.5000000000
4721296.5000000000
