1.0000000000
0.0000000000
0.0000000000
-1.0000000000
335524.5000000000
4721415.5000000000
