1.0000000000
0.0000000000
0.0000000000
-1.0000000000
340496.5000000000
4714356.5000000000
