1.0000000000
0.0000000000
0.0000000000
-1.0000000000
260014.5000000000
4765306.5000000000
