1.0000000000
0.0000000000
0.0000000000
-1.0000000000
254915.5000000000
4765486.5000000000
