1.0000000000
0.0000000000
0.0000000000
-1.0000000000
270214.5000000000
4764957.5000000000
