1.0000000000
0.0000000000
0.0000000000
-1.0000000000
265114.5000000000
4765130.5000000000
