1.0000000000
0.0000000000
0.0000000000
-1.0000000000
269982.5000000000
4758016.5000000000
