1.0000000000
0.0000000000
0.0000000000
-1.0000000000
264877.5000000000
4758189.5000000000
