1.0000000000
0.0000000000
0.0000000000
-1.0000000000
280414.5000000000
4764623.5000000000
