1.0000000000
0.0000000000
0.0000000000
-1.0000000000
275087.5000000000
4757847.5000000000
