1.0000000000
0.0000000000
0.0000000000
-1.0000000000
295713.5000000000
4764151.5000000000
