1.0000000000
0.0000000000
0.0000000000
-1.0000000000
295507.5000000000
4757210.5000000000
