1.0000000000
0.0000000000
0.0000000000
-1.0000000000
311013.5000000000
4763713.5000000000
