1.0000000000
0.0000000000
0.0000000000
-1.0000000000
310822.5000000000
4756772.5000000000
