1.0000000000
0.0000000000
0.0000000000
-1.0000000000
315927.5000000000
4756634.5000000000
