1.0000000000
0.0000000000
0.0000000000
-1.0000000000
331412.5000000000
4763182.5000000000
