1.0000000000
0.0000000000
0.0000000000
-1.0000000000
326312.5000000000
4763309.5000000000
