1.0000000000
0.0000000000
0.0000000000
-1.0000000000
326137.5000000000
4756369.5000000000
