1.0000000000
0.0000000000
0.0000000000
-1.0000000000
259530.5000000000
4751424.5000000000
