1.0000000000
0.0000000000
0.0000000000
-1.0000000000
254420.5000000000
4751604.5000000000
