1.0000000000
0.0000000000
0.0000000000
-1.0000000000
254172.5000000000
4744663.5000000000
