1.0000000000
0.0000000000
0.0000000000
-1.0000000000
269750.5000000000
4751075.5000000000
