1.0000000000
0.0000000000
0.0000000000
-1.0000000000
269519.5000000000
4744134.5000000000
