1.0000000000
0.0000000000
0.0000000000
-1.0000000000
264403.5000000000
4744307.5000000000
