1.0000000000
0.0000000000
0.0000000000
-1.0000000000
279971.5000000000
4750741.5000000000
