1.0000000000
0.0000000000
0.0000000000
-1.0000000000
274634.5000000000
4743965.5000000000
