1.0000000000
0.0000000000
0.0000000000
-1.0000000000
290191.5000000000
4750423.5000000000
