1.0000000000
0.0000000000
0.0000000000
-1.0000000000
300411.5000000000
4750120.5000000000
