1.0000000000
0.0000000000
0.0000000000
-1.0000000000
300210.5000000000
4743179.5000000000
