1.0000000000
0.0000000000
0.0000000000
-1.0000000000
295095.5000000000
4743329.5000000000
