1.0000000000
0.0000000000
0.0000000000
-1.0000000000
305521.5000000000
4749974.5000000000
