1.0000000000
0.0000000000
0.0000000000
-1.0000000000
305326.5000000000
4743033.5000000000
