1.0000000000
0.0000000000
0.0000000000
-1.0000000000
315741.5000000000
4749693.5000000000
