1.0000000000
0.0000000000
0.0000000000
-1.0000000000
315556.5000000000
4742752.5000000000
