1.0000000000
0.0000000000
0.0000000000
-1.0000000000
331071.5000000000
4749301.5000000000
